BEGIN:VCALENDAR
METHOD:PUBLISH
PRODID:Microsoft Exchange Server 2010
VERSION:2.0
BEGIN:VTIMEZONE
TZID:tzone://Microsoft/Utc
BEGIN:STANDARD
DTSTART:16010101T000000
TZOFFSETFROM:+0000
TZOFFSETTO:+0000
END:STANDARD
BEGIN:DAYLIGHT
DTSTART:16010101T000000
TZOFFSETFROM:+0000
TZOFFSETTO:+0000
END:DAYLIGHT
END:VTIMEZONE
BEGIN:VEVENT
ORGANIZER;CN=Schmitt  Uwe (ID):mailto:uwe.schmitt@id.ethz.ch
ATTENDEE;ROLE=REQ-PARTICIPANT;PARTSTAT=NEEDS-ACTION;RSVP=TRUE;CN=Baker  Cha
 d:mailto:chad.baker@eaps.ethz.ch
DESCRIPTION:About the speaker:\n\nChad Baker accidentally stumbled into sim
 ulation software development when he\ndeveloped Python models to help expl
 ain experimental results of his automotive\ncatalyst testing apparatus whi
 le doing research for his MS in mechanical\nengineering at University of T
 exas at Austin.\n\nHe then went on to refine this skills with deeper effor
 ts during his PhD\nresearch\, went on to work for Ford Motor Company for 6
  years developing thermal\nsystems simulations and integrating them into f
 ull vehicle simulations\, and\nthen went to work for the National Renewabl
 e Energy Lab (now known as National\nLab of the Rockies) in Golden\, CO fo
 r 6 years.\n\nSince joining the Geothermal Energy and Geofluids\n(GEG) gro
 up at ETH in September 2025\, Chad has shifted to working on geothermal\ne
 nergy simulation.\n\nAbout the presentation:\n\nIn this talk\, Chad will s
 hare lessons he's learned from years of practical\nefforts in collaborativ
 e coding for research software engineering\, focusing on\ncollaborative co
 ding\, code quality\, systems modeling architecture\,\nserialization/deser
 ialization\, assessing performance\, and using Rust under the\nhood to acc
 elerate Python code.\n\n\n\nUwe Schmitt (ETH Zurich) is inviting you to a
 scheduled Zoom meeting.\nJoin Zoom Meeting\nhttps://ethz.zoom.us/j/6577575
 6601?from=addon\n\nMeeting agenda\nhttps://docs.zoom.us/agenda/doc/2a13f72
 f-2760-4e62-8b66-6b00859a9ca1?from=addon\n\nMeeting ID: 657 7575 6601\n\n-
 --\n\nOne tap mobile\n+41445299272\,\,65775756601# Switzerland\n+412259100
 05\,\,65775756601# Switzerland\n\n---\n\nJoin by SIP\n65775756601@129.132.
 197.30\n\nJoin instructions\nhttps://ethz.zoom.us/meetings/65775756601/inv
 itations?signature=MBEomGPK0-n5-tJmU0krQOknlWlJcqLv9n95d2Exeqc\n\n\n
UID:040000008200E00074C5B7101A82E008000000006CCBB9C536D2DC01000000000000000
 0100000004B5E815809F9D74D9B55C39A2CA9AC94
SUMMARY:RSE Presentation Chad Baker: "Coding: Collaboration\, Quality\, Arc
 hitecture\, and Performance"
DTSTART:20260506T080000Z
DTEND:20260506T090000Z
CLASS:PUBLIC
PRIORITY:5
DTSTAMP:20260422T113452Z
TRANSP:OPAQUE
STATUS:CONFIRMED
SEQUENCE:1
LOCATION:https://ethz.zoom.us/j/65775756601?from=addon
X-MICROSOFT-CDO-BUSYSTATUS:BUSY
X-MICROSOFT-CDO-INTENDEDSTATUS:BUSY
X-MICROSOFT-CDO-ALLDAYEVENT:FALSE
X-MICROSOFT-CDO-IMPORTANCE:1
X-MICROSOFT-CDO-INSTTYPE:0
X-MICROSOFT-ONLINEMEETINGEXTERNALLINK:
X-MICROSOFT-DONOTFORWARDMEETING:FALSE
X-MICROSOFT-DISALLOW-COUNTER:FALSE
X-MICROSOFT-LOCATIONDISPLAYNAME:https://ethz.zoom.us/j/65775756601?from=add
 on
X-MICROSOFT-LOCATIONS:[{"DisplayName":"https://ethz.zoom.us/j/65775756601?f
 rom=addon"\,"LocationAnnotation":""\,"LocationUri":""\,"LocationStreet":""
 \,"LocationCity":""\,"LocationState":""\,"LocationCountry":""\,"LocationPo
 stalCode":""\,"LocationFullAddress":""}]
BEGIN:VALARM
DESCRIPTION:REMINDER
TRIGGER;RELATED=START:-PT5M
ACTION:DISPLAY
END:VALARM
END:VEVENT
END:VCALENDAR
